BEGIN:VCALENDAR
VERSION:2.0
PRODID:-//wp-events-plugin.com//7.2.3.1//EN
TZID:Europe/Paris
X-WR-TIMEZONE:Europe/Paris
BEGIN:VEVENT
UID:20@cec60200.com
DTSTART;TZID=Europe/Paris:20210228T080000
DTEND;TZID=Europe/Paris:20210228T150000
DTSTAMP:20210207T092143Z
URL:https://www.cec60200.com/events/concours-canicross/
SUMMARY:Annulation Concours Canicross
DESCRIPTION:Ce concours est annulé\n\nLe club Compiègne Education Canine 
 organise le dimanche 28 février 2021 son canicross autour du Mont Renard.
 \nNous vous accueillons sur un parcours 100% nature\, 100% chemins\, dans 
 la forêt de Laigue. Les départs et arrivées se feront près de la maiso
 n forestière du Francport.\n\nCaniVTT - Canicross long- Canicross court 
 – Canicross jeunes\n\nDirecteur de course : Catherine Obeuf\n\nHoraires 
 prévus Dimanche 28 février 2021:\n\n 	De 8h à 9h: Accueil des concurren
 ts\, remise des dossards au club canin de Compiègne\n 	9h à 9h30 : tran
 sfert vers le site de la course à la maison forestière du Francport\n 	1
 0h00: Départ CaniVTT (départ 1/1 toutes les 30 sec\, environ 6000 m – 
 D+120)\n 	10h30: Départ Canicross long (départ 2/2 toutes les 15 sec\, e
 nviron 6000 m – D+150)\n 	11h00 : Départ Canimarche parcours long\n 	1
 1h30: Départ Canicross benjamins – 11 à 14 ans (départ 1/1 toutes les
  15 sec\, environ 2000 m)\n 	12h00: Départ Canicross poussins - 7 à 10 a
 ns - (départ 1/1 toutes les 15 sec\, environ 1000 m)\n 	12h30: Départ Ca
 nicross court (départ 2/2 toutes les 30 sec\, environ 3000 m – D+100)\n
  	14h30: Remise des prix\n\nplans des parcours  \n\nplan d'accès au club
  \n\nQuelques infos importantes à lire : \n\nMerci de présenter votre m
 atériel canicross/caniVTT lors du retrait du dossard.\nNe pas oublier les
  photocopies (licence ou certificat médical de non contre-indication à l
 a pratique du sport ou de canicross/caniVTT y compris en compétition) à 
 joindre au règlement ou à présenter au retrait des dossards\, sans quoi
  le départ vous sera refusé.\n\nÂge minimum du chien à la date de la c
 ourse:\n1 an&gt\; Canicross adulte \; 18 mois&gt\; CaniVTT \; 10 mois&gt
 \; Canicross enfant et Canimarche\n\nLes départs se font par ordre de dos
 sard.\n\nLa reconnaissance du circuit (interdite avec des chiens) est cons
 eillée pour les VTT.\n\nCaniVTT: casque et gants obligatoires.\n\nLes chi
 ens se présentant avec un collier étrangleur\, un collier à piques ou u
 n collier électrique ne pourront pas prendre le départ.\nLes harnais typ
 e Julius sont vivement déconseillés. Ces harnais ne sont pas adaptés po
 ur la traction.\n\nPour les chiens de 2ème catégorie\, merci de nous fou
 rnir tous les documents obligatoires. Le port de la muselière est obligat
 oire sur l'ensemble du site.\n\nN'oubliez pas de ramasser les déjections 
 de vos chiens.\n\n- Je reconnais avoir pris connaissance des risques inhé
 rents à la pratique des disciplines proposées lors de ce concours.\n\n- 
 Je reconnais avoir été prévenu par les organisateurs concernant mes res
 ponsabilités sur une atteinte physique et sur les actes du chien qui est 
 sous ma garde.\n\n- J'atteste avoir lu et m'engage à respecter le règlem
 ent CNEAC de l'épreuve disponible sur: www.activites-canines.com\n\nA tr
 ès bientôt.\n\nIsabelle\, chargée de la section Canicross au club canin
  de Compiègne\n\n
CATEGORIES:Concours
END:VEVENT
BEGIN:VTIMEZONE
TZID:Europe/Paris
X-LIC-LOCATION:Europe/Paris
BEGIN:STANDARD
DTSTART:20201025T020000
TZOFFSETFROM:+0200
TZOFFSETTO:+0100
TZNAME:CET
END:STANDARD
END:VTIMEZONE
END:VCALENDAR