BEGIN:VCALENDAR
VERSION:2.0
PRODID:-//wp-events-plugin.com//7.2.3.1//EN
TZID:Europe/Paris
X-WR-TIMEZONE:Europe/Paris
BEGIN:VEVENT
UID:4@cec60200.com
DTSTART;TZID=Europe/Paris;VALUE=DATE:20200926
DTEND;TZID=Europe/Paris;VALUE=DATE:20200927
DTSTAMP:20200724T124148Z
URL:https://www.cec60200.com/events/formation-moniteur-education-canine/
SUMMARY:Formation moniteur éducation canine niveau 1
DESCRIPTION:Stage n°1 : Méthode naturelle et clicker
CATEGORIES:Formation
LOCATION:CEC\, Square de la scierie\, 2 avenue de l'Armistice\, Compiègne\
 , 60200\, Hauts-de-France\, France
X-APPLE-STRUCTURED-LOCATION;VALUE=URI;X-ADDRESS=Square de la scierie\, 2 av
 enue de l'Armistice\, Compiègne\, 60200\, Hauts-de-France\, France;X-APPL
 E-RADIUS=100;X-TITLE=CEC:geo:0,0
END:VEVENT
BEGIN:VTIMEZONE
TZID:Europe/Paris
X-LIC-LOCATION:Europe/Paris
BEGIN:DAYLIGHT
DTSTART:20200329T030000
TZOFFSETFROM:+0100
TZOFFSETTO:+0200
TZNAME:CEST
END:DAYLIGHT
END:VTIMEZONE
END:VCALENDAR